Package: LPE Version: 1.80.0 Command: /home/biocbuild/bbs-3.20-bioc/R/bin/R CMD INSTALL LPE StartedAt: 2025-01-02 15:13:52 -0500 (Thu, 02 Jan 2025) EndedAt: 2025-01-02 15:14:05 -0500 (Thu, 02 Jan 2025) EllapsedTime: 13.5 seconds RetCode: 0 Status: OK