Package: LPE Version: 1.82.0 Command: /Library/Frameworks/R.framework/Resources/bin/R CMD build --keep-empty-dirs --no-resave-data LPE StartedAt: 2025-05-22 20:04:37 -0400 (Thu, 22 May 2025) EndedAt: 2025-05-22 20:04:59 -0400 (Thu, 22 May 2025) EllapsedTime: 22.5 seconds RetCode: 0 Status: OK PackageFile: LPE_1.82.0.tar.gz PackageFileSize: 436.2 KiB