Package: LOBSTAHS Version: 1.34.0 Command: /Library/Frameworks/R.framework/Resources/bin/R CMD INSTALL LOBSTAHS StartedAt: 2025-04-21 15:23:59 -0400 (Mon, 21 Apr 2025) EndedAt: 2025-04-21 15:24:00 -0400 (Mon, 21 Apr 2025) EllapsedTime: 1.2 seconds RetCode: 1 Status: ERROR