Package: LOBSTAHS Version: 1.34.0 Command: /Library/Frameworks/R.framework/Resources/bin/R CMD build --keep-empty-dirs --no-resave-data LOBSTAHS StartedAt: 2025-04-21 16:47:27 -0400 (Mon, 21 Apr 2025) EndedAt: 2025-04-21 16:47:28 -0400 (Mon, 21 Apr 2025) EllapsedTime: 1.0 seconds RetCode: 1 Status: ERROR PackageFile: None PackageFileSize: NA