############################################################################## ############################################################################## ### ### Running command: ### ### /Library/Frameworks/R.framework/Resources/bin/R CMD build --keep-empty-dirs --no-resave-data LOBSTAHS ### ############################################################################## ############################################################################## * checking for file ‘LOBSTAHS/DESCRIPTION’ ... OK * preparing ‘LOBSTAHS’: * checking DESCRIPTION meta-information ... OK * installing the package to build vignettes ----------------------------------- ERROR: dependencies ‘xcms’, ‘CAMERA’ are not available for package ‘LOBSTAHS’ Perhaps try a variation of: install.packages(c('xcms', 'CAMERA')) * removing ‘/private/var/folders/r0/l4fjk6cj5xj0j3brt4bplpl40000gt/T/RtmpYPm0LR/Rinst94f3288e3770/LOBSTAHS’ ----------------------------------- ERROR: package installation failed