Package: LOBSTAHS Version: 1.34.1 Command: rm -rf LOBSTAHS.buildbin-libdir && mkdir LOBSTAHS.buildbin-libdir && /Users/biocbuild/BBS/utils/build-universal.sh LOBSTAHS_1.34.1.tar.gz /Library/Frameworks/R.framework/Resources/bin/R LOBSTAHS.buildbin-libdir StartedAt: 2025-10-04 18:34:45 -0400 (Sat, 04 Oct 2025) EndedAt: 2025-10-04 18:35:49 -0400 (Sat, 04 Oct 2025) EllapsedTime: 63.5 seconds RetCode: 0 Status: OK PackageFile: LOBSTAHS_1.34.1.tgz PackageFileSize: 2.002 MiB