Package: LOBSTAHS Version: 1.34.0 Maintainer: Henry Holm MaintainerEmail: hholm at whoi.edu git_url: https://git.bioconductor.org/packages/LOBSTAHS git_branch: RELEASE_3_21 git_last_commit: 706e408 git_last_commit_date: 2025-04-15 11:03:30 -0400 (Tue, 15 Apr 2025)