Package: LEA Version: 3.18.0 Command: rm -rf LEA.buildbin-libdir && mkdir LEA.buildbin-libdir && F:\biocbuild\bbs-3.20-bioc\R\bin\R.exe CMD INSTALL --build --library=LEA.buildbin-libdir LEA_3.18.0.tar.gz StartedAt: 2025-01-03 08:35:20 -0500 (Fri, 03 Jan 2025) EndedAt: 2025-01-03 08:37:00 -0500 (Fri, 03 Jan 2025) EllapsedTime: 100.1 seconds RetCode: 0 Status: OK PackageFile: LEA_3.18.0.zip PackageFileSize: 955.1 KiB