Package: LEA Version: 3.20.0 Command: /Library/Frameworks/R.framework/Resources/bin/R CMD build --keep-empty-dirs --no-resave-data LEA StartedAt: 2025-05-22 20:01:14 -0400 (Thu, 22 May 2025) EndedAt: 2025-05-22 20:04:11 -0400 (Thu, 22 May 2025) EllapsedTime: 177.2 seconds RetCode: 0 Status: OK PackageFile: LEA_3.20.0.tar.gz PackageFileSize: 738.6 KiB