Package: LEA Version: 3.20.0 Maintainer: Olivier Francois MaintainerEmail: olivier.francois at grenoble-inp.fr git_url: https://git.bioconductor.org/packages/LEA git_branch: RELEASE_3_21 git_last_commit: 4a4f036 git_last_commit_date: 2025-04-15 10:48:56 -0400 (Tue, 15 Apr 2025)