Package: LBE Version: 1.74.0 Command: F:\biocbuild\bbs-3.20-bioc\R\bin\R.exe CMD INSTALL LBE StartedAt: 2025-01-30 15:19:50 -0500 (Thu, 30 Jan 2025) EndedAt: 2025-01-30 15:19:57 -0500 (Thu, 30 Jan 2025) EllapsedTime: 6.7 seconds RetCode: 0 Status: OK