Package: LBE Version: 1.74.0 Command: F:\biocbuild\bbs-3.20-bioc\R\bin\R.exe CMD check --no-multiarch --install=check:LBE.install-out.txt --library=F:\biocbuild\bbs-3.20-bioc\R\library --no-vignettes --timings LBE_1.74.0.tar.gz StartedAt: 2025-01-31 03:21:16 -0500 (Fri, 31 Jan 2025) EndedAt: 2025-01-31 03:21:46 -0500 (Fri, 31 Jan 2025) EllapsedTime: 30.1 seconds RetCode: 0 Status: OK CheckDir: LBE.Rcheck Warnings: 0