Package: LBE Version: 1.74.0 Command: rm -rf LBE.buildbin-libdir && mkdir LBE.buildbin-libdir && F:\biocbuild\bbs-3.20-bioc\R\bin\R.exe CMD INSTALL --build --library=LBE.buildbin-libdir LBE_1.74.0.tar.gz StartedAt: 2025-01-31 08:55:47 -0500 (Fri, 31 Jan 2025) EndedAt: 2025-01-31 08:56:01 -0500 (Fri, 31 Jan 2025) EllapsedTime: 13.1 seconds RetCode: 0 Status: OK PackageFile: LBE_1.74.0.zip PackageFileSize: 816.4 KiB