Package: LBE Version: 1.76.0 Command: chmod a+r LBE -R && E:\biocbuild\bbs-3.21-bioc\R\bin\R.exe CMD build --keep-empty-dirs --no-resave-data LBE StartedAt: 2025-08-14 20:01:28 -0400 (Thu, 14 Aug 2025) EndedAt: 2025-08-14 20:01:43 -0400 (Thu, 14 Aug 2025) EllapsedTime: 15.0 seconds RetCode: 0 Status: OK PackageFile: LBE_1.76.0.tar.gz PackageFileSize: 785.4 KiB