Package: LBE Version: 1.76.0 Command: /Library/Frameworks/R.framework/Resources/bin/R CMD INSTALL LBE StartedAt: 2025-04-21 15:03:38 -0400 (Mon, 21 Apr 2025) EndedAt: 2025-04-21 15:04:24 -0400 (Mon, 21 Apr 2025) EllapsedTime: 46.2 seconds RetCode: 0 Status: OK