Package: LACE Version: 2.12.0 Maintainer: Davide Maspero MaintainerEmail: d.maspero at campus.unimib.it git_url: https://git.bioconductor.org/packages/LACE git_branch: RELEASE_3_21 git_last_commit: d687f36 git_last_commit_date: 2025-04-15 11:58:47 -0400 (Tue, 15 Apr 2025)