Package: KnowSeq Version: 1.22.0 Command: /home/biocbuild/bbs-3.21-bioc/R/bin/R CMD INSTALL KnowSeq StartedAt: 2025-10-15 15:27:50 -0400 (Wed, 15 Oct 2025) EndedAt: 2025-10-15 15:28:20 -0400 (Wed, 15 Oct 2025) EllapsedTime: 30.7 seconds RetCode: 0 Status: OK