Package: KEGGlincs Version: 1.34.0 Command: /home/biocbuild/bbs-3.21-bioc/R/bin/R CMD build --keep-empty-dirs --no-resave-data KEGGlincs StartedAt: 2025-10-15 18:11:29 -0400 (Wed, 15 Oct 2025) EndedAt: 2025-10-15 18:12:20 -0400 (Wed, 15 Oct 2025) EllapsedTime: 51.0 seconds RetCode: 0 Status: OK PackageFile: KEGGlincs_1.34.0.tar.gz PackageFileSize: 4.215 MiB