Package: KEGGgraph Version: 1.66.0 Command: /home/biocbuild/R/R/bin/R CMD INSTALL KEGGgraph StartedAt: 2025-01-30 20:10:53 -0000 (Thu, 30 Jan 2025) EndedAt: 2025-01-30 20:11:29 -0000 (Thu, 30 Jan 2025) EllapsedTime: 35.5 seconds RetCode: 0 Status: OK