Package: KEGGgraph Version: 1.66.0 Command: /home/biocbuild/R/R/bin/R CMD check --install=check:KEGGgraph.install-out.txt --library=/home/biocbuild/R/R/site-library --no-vignettes --timings KEGGgraph_1.66.0.tar.gz StartedAt: 2025-02-04 08:15:02 -0000 (Tue, 04 Feb 2025) EndedAt: 2025-02-04 08:16:20 -0000 (Tue, 04 Feb 2025) EllapsedTime: 77.1 seconds RetCode: 0 Status: WARNINGS CheckDir: KEGGgraph.Rcheck Warnings: 1