Package: KEGGgraph Version: 1.66.0 Command: /home/biocbuild/R/R/bin/R CMD build --keep-empty-dirs --no-resave-data KEGGgraph StartedAt: 2025-02-04 00:31:43 -0000 (Tue, 04 Feb 2025) EndedAt: 2025-02-04 00:32:18 -0000 (Tue, 04 Feb 2025) EllapsedTime: 35.0 seconds RetCode: 0 Status: OK PackageFile: KEGGgraph_1.66.0.tar.gz PackageFileSize: 1.307 MiB