Package: KEGGREST Version: 1.46.0 Command: /home/biocbuild/R/R/bin/R CMD INSTALL KEGGREST StartedAt: 2025-02-03 20:30:11 -0000 (Mon, 03 Feb 2025) EndedAt: 2025-02-03 20:30:23 -0000 (Mon, 03 Feb 2025) EllapsedTime: 12.0 seconds RetCode: 0 Status: OK