Package: KEGGREST Version: 1.46.0 Command: rm -rf KEGGREST.buildbin-libdir && mkdir KEGGREST.buildbin-libdir && F:\biocbuild\bbs-3.20-bioc\R\bin\R.exe CMD INSTALL --build --library=KEGGREST.buildbin-libdir KEGGREST_1.46.0.tar.gz StartedAt: 2025-01-03 08:34:38 -0500 (Fri, 03 Jan 2025) EndedAt: 2025-01-03 08:35:05 -0500 (Fri, 03 Jan 2025) EllapsedTime: 26.8 seconds RetCode: 0 Status: OK PackageFile: KEGGREST_1.46.0.zip PackageFileSize: 401.2 KiB