Package: KCsmart Version: 2.64.0 Command: rm -rf KCsmart.buildbin-libdir && mkdir KCsmart.buildbin-libdir && F:\biocbuild\bbs-3.20-bioc\R\bin\R.exe CMD INSTALL --build --library=KCsmart.buildbin-libdir KCsmart_2.64.0.tar.gz StartedAt: 2025-01-31 08:54:56 -0500 (Fri, 31 Jan 2025) EndedAt: 2025-01-31 08:55:28 -0500 (Fri, 31 Jan 2025) EllapsedTime: 31.3 seconds RetCode: 0 Status: OK PackageFile: KCsmart_2.64.0.zip PackageFileSize: 2.105 MiB