Package: KCsmart Version: 2.66.0 Command: /Library/Frameworks/R.framework/Resources/bin/R CMD INSTALL KCsmart StartedAt: 2025-04-24 16:10:40 -0400 (Thu, 24 Apr 2025) EndedAt: 2025-04-24 16:11:01 -0400 (Thu, 24 Apr 2025) EllapsedTime: 21.0 seconds RetCode: 0 Status: OK