Package: KCsmart Version: 2.64.0 Command: /Library/Frameworks/R.framework/Resources/bin/R CMD INSTALL KCsmart StartedAt: 2024-11-08 15:41:36 -0500 (Fri, 08 Nov 2024) EndedAt: 2024-11-08 15:41:40 -0500 (Fri, 08 Nov 2024) EllapsedTime: 4.1 seconds RetCode: 0 Status: OK