Package: KCsmart Version: 2.66.0 Command: /Library/Frameworks/R.framework/Resources/bin/R CMD build --keep-empty-dirs --no-resave-data KCsmart StartedAt: 2025-05-09 02:32:21 -0400 (Fri, 09 May 2025) EndedAt: 2025-05-09 02:32:54 -0400 (Fri, 09 May 2025) EllapsedTime: 33.2 seconds RetCode: 0 Status: OK PackageFile: KCsmart_2.66.0.tar.gz PackageFileSize: 1.819 MiB