Package: KBoost Version: 1.16.0 Command: rm -rf KBoost.buildbin-libdir && mkdir KBoost.buildbin-libdir && /Users/biocbuild/BBS/utils/build-universal.sh KBoost_1.16.0.tar.gz /Library/Frameworks/R.framework/Resources/bin/R KBoost.buildbin-libdir StartedAt: 2025-04-21 22:39:50 -0400 (Mon, 21 Apr 2025) EndedAt: 2025-04-21 22:39:52 -0400 (Mon, 21 Apr 2025) EllapsedTime: 2.0 seconds RetCode: 0 Status: OK PackageFile: KBoost_1.16.0.tgz PackageFileSize: 579.6 KiB