Package: KBoost Version: 1.16.0 Command: rm -rf KBoost.buildbin-libdir && mkdir KBoost.buildbin-libdir && /Users/biocbuild/BBS/utils/build-universal.sh KBoost_1.16.0.tar.gz /Library/Frameworks/R.framework/Resources/bin/R KBoost.buildbin-libdir StartedAt: 2025-10-01 19:01:10 -0400 (Wed, 01 Oct 2025) EndedAt: 2025-10-01 19:01:15 -0400 (Wed, 01 Oct 2025) EllapsedTime: 4.6 seconds RetCode: 0 Status: OK PackageFile: KBoost_1.16.0.tgz PackageFileSize: 576.6 KiB