Package: IsoCorrectoRGUI Version: 1.22.0 Command: F:\biocbuild\bbs-3.20-bioc\R\bin\R.exe CMD INSTALL IsoCorrectoRGUI StartedAt: 2025-01-30 15:41:01 -0500 (Thu, 30 Jan 2025) EndedAt: 2025-01-30 15:41:53 -0500 (Thu, 30 Jan 2025) EllapsedTime: 51.9 seconds RetCode: 0 Status: OK