Package: IsoCorrectoRGUI Version: 1.26.0 Command: /home/biocbuild/bbs-3.22-bioc/R/bin/R CMD INSTALL IsoCorrectoRGUI StartedAt: 2025-11-16 15:09:46 -0500 (Sun, 16 Nov 2025) EndedAt: 2025-11-16 15:09:53 -0500 (Sun, 16 Nov 2025) EllapsedTime: 6.7 seconds RetCode: 0 Status: OK