Package: IsoCorrectoRGUI Version: 1.24.0 Command: /home/biocbuild/R/R/bin/R CMD INSTALL IsoCorrectoRGUI StartedAt: 2025-07-22 02:46:48 -0000 (Tue, 22 Jul 2025) EndedAt: 2025-07-22 02:47:02 -0000 (Tue, 22 Jul 2025) EllapsedTime: 14.2 seconds RetCode: 0 Status: OK