Package: IsoCorrectoR Version: 1.24.0 Command: /home/biocbuild/R/R/bin/R CMD build --keep-empty-dirs --no-resave-data IsoCorrectoR StartedAt: 2025-01-31 00:29:24 -0000 (Fri, 31 Jan 2025) EndedAt: 2025-01-31 00:29:37 -0000 (Fri, 31 Jan 2025) EllapsedTime: 13.0 seconds RetCode: 0 Status: OK PackageFile: IsoCorrectoR_1.24.0.tar.gz PackageFileSize: 1.687 MiB