Package: IsoCorrectoR Version: 1.28.0 Command: /Library/Frameworks/R.framework/Resources/bin/R CMD INSTALL IsoCorrectoR StartedAt: 2025-11-03 15:15:23 -0500 (Mon, 03 Nov 2025) EndedAt: 2025-11-03 15:15:47 -0500 (Mon, 03 Nov 2025) EllapsedTime: 24.1 seconds RetCode: 0 Status: OK