Package: IsoCorrectoR Version: 1.28.0 Command: rm -rf IsoCorrectoR.buildbin-libdir && mkdir IsoCorrectoR.buildbin-libdir && /Users/biocbuild/BBS/utils/build-universal.sh IsoCorrectoR_1.28.0.tar.gz /Library/Frameworks/R.framework/Resources/bin/R IsoCorrectoR.buildbin-libdir StartedAt: 2025-11-04 01:46:23 -0500 (Tue, 04 Nov 2025) EndedAt: 2025-11-04 01:46:36 -0500 (Tue, 04 Nov 2025) EllapsedTime: 12.6 seconds RetCode: 0 Status: OK PackageFile: IsoCorrectoR_1.28.0.tgz PackageFileSize: 1.744 MiB