Package: IsoCorrectoR Version: 1.26.0 Command: /home/biocbuild/R/R/bin/R CMD check --install=check:IsoCorrectoR.install-out.txt --library=/home/biocbuild/R/R/site-library --no-vignettes --timings IsoCorrectoR_1.26.0.tar.gz StartedAt: 2025-04-22 10:20:02 -0000 (Tue, 22 Apr 2025) EndedAt: 2025-04-22 10:21:55 -0000 (Tue, 22 Apr 2025) EllapsedTime: 113.1 seconds RetCode: 0 Status: OK CheckDir: IsoCorrectoR.Rcheck Warnings: 0