Package: IsoCorrectoR Version: 1.26.0 Command: /home/biocbuild/R/R/bin/R CMD build --keep-empty-dirs --no-resave-data IsoCorrectoR StartedAt: 2025-04-22 01:43:57 -0000 (Tue, 22 Apr 2025) EndedAt: 2025-04-22 01:44:10 -0000 (Tue, 22 Apr 2025) EllapsedTime: 13.0 seconds RetCode: 0 Status: OK PackageFile: IsoCorrectoR_1.26.0.tar.gz PackageFileSize: 1.687 MiB