Package: IsoCorrectoR Version: 1.26.0 Command: /Library/Frameworks/R.framework/Resources/bin/R CMD INSTALL IsoCorrectoR StartedAt: 2025-04-21 15:04:47 -0400 (Mon, 21 Apr 2025) EndedAt: 2025-04-21 15:04:50 -0400 (Mon, 21 Apr 2025) EllapsedTime: 2.8 seconds RetCode: 0 Status: OK