Package: IsoCorrectoR Version: 1.26.0 Command: rm -rf IsoCorrectoR.buildbin-libdir && mkdir IsoCorrectoR.buildbin-libdir && /Users/biocbuild/BBS/utils/build-universal.sh IsoCorrectoR_1.26.0.tar.gz /Library/Frameworks/R.framework/Resources/bin/R IsoCorrectoR.buildbin-libdir StartedAt: 2025-10-01 18:59:34 -0400 (Wed, 01 Oct 2025) EndedAt: 2025-10-01 18:59:44 -0400 (Wed, 01 Oct 2025) EllapsedTime: 10.3 seconds RetCode: 0 Status: OK PackageFile: IsoCorrectoR_1.26.0.tgz PackageFileSize: 1.745 MiB