Package: IntramiRExploreR Version: 1.28.0 Command: /home/biocbuild/R/R/bin/R CMD build --keep-empty-dirs --no-resave-data IntramiRExploreR StartedAt: 2025-01-31 00:26:32 -0000 (Fri, 31 Jan 2025) EndedAt: 2025-01-31 00:26:58 -0000 (Fri, 31 Jan 2025) EllapsedTime: 26.0 seconds RetCode: 0 Status: OK PackageFile: IntramiRExploreR_1.28.0.tar.gz PackageFileSize: 8.902 MiB