Back to Multiple platform build/check report for BioC 3.22:   simplified   long
ABCDEFGH[I]JKLMNOPQRSTUVWXYZ

This page was generated on 2025-11-05 12:39 -0500 (Wed, 05 Nov 2025).

HostnameOSArch (*)R versionInstalled pkgs
nebbiolo2Linux (Ubuntu 24.04.3 LTS)x86_644.5.1 Patched (2025-08-23 r88802) -- "Great Square Root" 4902
kjohnson3macOS 13.7.7 Venturaarm644.5.1 Patched (2025-09-10 r88807) -- "Great Square Root" 4638
Click on any hostname to see more info about the system (e.g. compilers)      (*) as reported by 'uname -p', except on Windows and Mac OS X

All results for package InteractionSet


To the developers/maintainers of the InteractionSet package:
- Allow up to 24 hours (and sometimes 48 hours) for your latest push to git@git.bioconductor.org:packages/InteractionSet.git to reflect on this report. See Troubleshooting Build Report for more information.
- Use the following Renviron settings to reproduce errors and warnings.
- If 'R CMD check' started to fail recently on the Linux builder(s) over a missing dependency, add the missing dependency to 'Suggests:' in your DESCRIPTION file. See Renviron.bioc for more information.

raw results

Package 1069/2361HostnameOS / ArchINSTALLBUILDCHECKBUILD BIN
InteractionSet 1.38.0  (landing page)
Aaron Lun
Snapshot Date: 2025-11-04 13:45 -0500 (Tue, 04 Nov 2025)
git_url: https://git.bioconductor.org/packages/InteractionSet
git_branch: RELEASE_3_22
git_last_commit: b784a04
git_last_commit_date: 2025-10-29 10:31:52 -0500 (Wed, 29 Oct 2025)
nebbiolo2Linux (Ubuntu 24.04.3 LTS) / x86_64  OK    OK    OK  UNNEEDED, same version is already published
kjohnson3macOS 13.7.7 Ventura / arm64  OK    OK    OK    OK  UNNEEDED, same version is already published



Results for Bioconductor software packages that depend directly on package InteractionSet

QUICK STATSOS / ArchINSTALLBUILDCHECKBUILD BIN
nebbiolo2Linux (Ubuntu 24.04.3 LTS) / x86_64
0026
0125
00223
kjohnson3macOS 13.7.7 Ventura / arm64
0026
0125
00124
0025
Package 1/26HostnameOS / ArchINSTALLBUILDCHECKBUILD BIN
CAGEfightR 1.30.0  (landing page)
Malte Thodberg
git_last_commit: eda75c3
git_last_commit_date: 2025-10-29 10:45:17 -0500
nebbiolo2Linux (Ubuntu 24.04.3 LTS) / x86_64  OK    OK    OK  UNNEEDED, same version is already published
kjohnson3macOS 13.7.7 Ventura / arm64  OK    OK    OK    OK  UNNEEDED, same version is already published
Package 2/26HostnameOS / ArchINSTALLBUILDCHECKBUILD BIN
ChIPpeakAnno 3.44.0  (landing page)
Jianhong Ou
git_last_commit: 2b855fa
git_last_commit_date: 2025-10-29 10:03:18 -0500
nebbiolo2Linux (Ubuntu 24.04.3 LTS) / x86_64  OK    OK    OK  UNNEEDED, same version is already published
kjohnson3macOS 13.7.7 Ventura / arm64  OK    OK    OK    OK  UNNEEDED, same version is already published
Package 3/26HostnameOS / ArchINSTALLBUILDCHECKBUILD BIN
DegCre 1.6.0  (landing page)
Brian S. Roberts
git_last_commit: b521002
git_last_commit_date: 2025-10-29 11:28:34 -0500
nebbiolo2Linux (Ubuntu 24.04.3 LTS) / x86_64  OK    OK    OK  UNNEEDED, same version is already published
kjohnson3macOS 13.7.7 Ventura / arm64  OK    OK    OK    OK  UNNEEDED, same version is already published
Package 4/26HostnameOS / ArchINSTALLBUILDCHECKBUILD BIN
diffHic 1.42.0  (landing page)
Aaron Lun , Gordon Smyth , Hannah Coughlin
git_last_commit: d1e2c99
git_last_commit_date: 2025-10-29 10:25:47 -0500
nebbiolo2Linux (Ubuntu 24.04.3 LTS) / x86_64  OK    OK    OK  UNNEEDED, same version is already published
kjohnson3macOS 13.7.7 Ventura / arm64  OK    OK    OK    OK  UNNEEDED, same version is already published
Package 5/26HostnameOS / ArchINSTALLBUILDCHECKBUILD BIN
DMRcaller 1.42.0  (landing page)
Nicolae Radu Zabet
git_last_commit: ba466d4
git_last_commit_date: 2025-10-29 10:25:12 -0500
nebbiolo2Linux (Ubuntu 24.04.3 LTS) / x86_64  OK    OK    OK  UNNEEDED, same version is already published
kjohnson3macOS 13.7.7 Ventura / arm64  OK    OK    OK    OK  UNNEEDED, same version is already published
Package 6/26HostnameOS / ArchINSTALLBUILDCHECKBUILD BIN
DuplexDiscovereR 1.4.0  (landing page)
Egor Semenchenko
git_last_commit: 38c4e52
git_last_commit_date: 2025-10-29 11:32:35 -0500
nebbiolo2Linux (Ubuntu 24.04.3 LTS) / x86_64  OK    OK    OK  UNNEEDED, same version is already published
kjohnson3macOS 13.7.7 Ventura / arm64  OK    OK    OK    OK  UNNEEDED, same version is already published
Package 7/26HostnameOS / ArchINSTALLBUILDCHECKBUILD BIN
EDIRquery 1.10.0  (landing page)
Laura D.T. Vo Ngoc
git_last_commit: 56a72b8
git_last_commit_date: 2025-10-29 11:22:37 -0500
nebbiolo2Linux (Ubuntu 24.04.3 LTS) / x86_64  OK    OK    OK  UNNEEDED, same version is already published
kjohnson3macOS 13.7.7 Ventura / arm64  OK    OK    OK    OK  UNNEEDED, same version is already published
Package 8/26HostnameOS / ArchINSTALLBUILDCHECKBUILD BIN
extraChIPs 1.14.0  (landing page)
Stevie Pederson
git_last_commit: 9b0567a
git_last_commit_date: 2025-10-29 11:16:32 -0500
nebbiolo2Linux (Ubuntu 24.04.3 LTS) / x86_64  OK    OK    OK  UNNEEDED, same version is already published
kjohnson3macOS 13.7.7 Ventura / arm64  OK    OK    OK    OK  UNNEEDED, same version is already published
Package 9/26HostnameOS / ArchINSTALLBUILDCHECKBUILD BIN
GenomicInteractions 1.44.0  (landing page)
Liz Ing-Simmons
git_last_commit: 7901852
git_last_commit_date: 2025-10-29 10:21:43 -0500
nebbiolo2Linux (Ubuntu 24.04.3 LTS) / x86_64  OK    OK    OK  UNNEEDED, same version is already published
kjohnson3macOS 13.7.7 Ventura / arm64  OK    OK    OK    OK  UNNEEDED, same version is already published
Package 10/26HostnameOS / ArchINSTALLBUILDCHECKBUILD BIN
geomeTriD 1.4.0  (landing page)
Jianhong Ou
git_last_commit: 6d6e43f
git_last_commit_date: 2025-10-29 11:32:13 -0500
nebbiolo2Linux (Ubuntu 24.04.3 LTS) / x86_64  OK    OK    OK  UNNEEDED, same version is already published
kjohnson3macOS 13.7.7 Ventura / arm64  OK    OK    OK    OK  UNNEEDED, same version is already published
Package 11/26HostnameOS / ArchINSTALLBUILDCHECKBUILD BIN
HicAggR 1.6.0  (landing page)
Olivier Cuvier
git_last_commit: 8551a70
git_last_commit_date: 2025-10-29 11:30:21 -0500
nebbiolo2Linux (Ubuntu 24.04.3 LTS) / x86_64  OK    OK    WARNINGS  UNNEEDED, same version is already published
kjohnson3macOS 13.7.7 Ventura / arm64  OK    OK    WARNINGS    OK  UNNEEDED, same version is already published
Package 12/26HostnameOS / ArchINSTALLBUILDCHECKBUILD BIN
HiCaptuRe 1.0.0  (landing page)
Laureano Tomas-Daza
git_last_commit: 0a37211
git_last_commit_date: 2025-10-29 11:37:26 -0500
nebbiolo2Linux (Ubuntu 24.04.3 LTS) / x86_64  OK    OK    OK  UNNEEDED, same version is already published
kjohnson3macOS 13.7.7 Ventura / arm64  OK    OK    OK    OK  UNNEEDED, same version is already published
Package 13/26HostnameOS / ArchINSTALLBUILDCHECKBUILD BIN
HiCcompare 1.32.0  (landing page)
Mikhail Dozmorov
git_last_commit: 9add140
git_last_commit_date: 2025-10-29 10:39:45 -0500
nebbiolo2Linux (Ubuntu 24.04.3 LTS) / x86_64  OK    OK    OK  UNNEEDED, same version is already published
kjohnson3macOS 13.7.7 Ventura / arm64  OK    OK    OK    OK  UNNEEDED, same version is already published
Package 14/26HostnameOS / ArchINSTALLBUILDCHECKBUILD BIN
HiCDCPlus 1.18.0  (landing page)
Merve Sahin
git_last_commit: 2c8bd39
git_last_commit_date: 2025-10-29 11:06:20 -0500
nebbiolo2Linux (Ubuntu 24.04.3 LTS) / x86_64  OK    OK    OK  UNNEEDED, same version is already published
kjohnson3macOS 13.7.7 Ventura / arm64  OK    OK    OK    OK  UNNEEDED, same version is already published
Package 15/26HostnameOS / ArchINSTALLBUILDCHECKBUILD BIN
HiCDOC 1.12.0  (landing page)
Maigné Élise
git_last_commit: 814d8c7
git_last_commit_date: 2025-10-29 11:17:41 -0500
nebbiolo2Linux (Ubuntu 24.04.3 LTS) / x86_64  OK    OK    OK  UNNEEDED, same version is already published
kjohnson3macOS 13.7.7 Ventura / arm64  OK    OK    OK    OK  UNNEEDED, same version is already published
Package 16/26HostnameOS / ArchINSTALLBUILDCHECKBUILD BIN
HiCExperiment 1.10.0  (landing page)
Jacques Serizay
git_last_commit: 7a770a4
git_last_commit_date: 2025-10-29 11:21:02 -0500
nebbiolo2Linux (Ubuntu 24.04.3 LTS) / x86_64  OK    OK    OK  UNNEEDED, same version is already published
kjohnson3macOS 13.7.7 Ventura / arm64  OK    OK    OK    OK  UNNEEDED, same version is already published
Package 17/26HostnameOS / ArchINSTALLBUILDCHECKBUILD BIN
HiContacts 1.12.0  (landing page)
Jacques Serizay
git_last_commit: 16d8499
git_last_commit_date: 2025-10-29 11:18:51 -0500
nebbiolo2Linux (Ubuntu 24.04.3 LTS) / x86_64  OK    OK    OK  UNNEEDED, same version is already published
kjohnson3macOS 13.7.7 Ventura / arm64  OK    OK    OK    OK  UNNEEDED, same version is already published
Package 18/26HostnameOS / ArchINSTALLBUILDCHECKBUILD BIN
HiCool 1.10.0  (landing page)
Jacques Serizay
git_last_commit: 901249c
git_last_commit_date: 2025-10-29 11:21:39 -0500
nebbiolo2Linux (Ubuntu 24.04.3 LTS) / x86_64  OK    ERROR  skipped
kjohnson3macOS 13.7.7 Ventura / arm64  OK    OK    OK    OK  UNNEEDED, same version is already published
Package 19/26HostnameOS / ArchINSTALLBUILDCHECKBUILD BIN
HiCParser 1.2.0  (landing page)
Maigné Élise
git_last_commit: c089341
git_last_commit_date: 2025-10-29 11:34:37 -0500
nebbiolo2Linux (Ubuntu 24.04.3 LTS) / x86_64  OK    OK    OK  UNNEEDED, same version is already published
kjohnson3macOS 13.7.7 Ventura / arm64  OK    OK    OK    OK  UNNEEDED, same version is already published
Package 20/26HostnameOS / ArchINSTALLBUILDCHECKBUILD BIN
hicVennDiagram 1.8.0  (landing page)
Jianhong Ou
git_last_commit: 33c3f4f
git_last_commit_date: 2025-10-29 11:24:22 -0500
nebbiolo2Linux (Ubuntu 24.04.3 LTS) / x86_64  OK    OK    OK  UNNEEDED, same version is already published
kjohnson3macOS 13.7.7 Ventura / arm64  OK    OK    OK    OK  UNNEEDED, same version is already published
Package 21/26HostnameOS / ArchINSTALLBUILDCHECKBUILD BIN
linkSet 1.0.0  (landing page)
Gilbert Han
git_last_commit: e983433
git_last_commit_date: 2025-10-29 11:37:12 -0500
nebbiolo2Linux (Ubuntu 24.04.3 LTS) / x86_64  OK    OK    WARNINGS  UNNEEDED, same version is already published
kjohnson3macOS 13.7.7 Ventura / arm64  OK    ERROR  skippedskipped
Package 22/26HostnameOS / ArchINSTALLBUILDCHECKBUILD BIN
mariner 1.10.0  (landing page)
Eric Davis
git_last_commit: 0e27ac7
git_last_commit_date: 2025-10-29 11:23:11 -0500
nebbiolo2Linux (Ubuntu 24.04.3 LTS) / x86_64  OK    OK    OK  UNNEEDED, same version is already published
kjohnson3macOS 13.7.7 Ventura / arm64  OK    OK    OK    OK  UNNEEDED, same version is already published
Package 23/26HostnameOS / ArchINSTALLBUILDCHECKBUILD BIN
nullranges 1.16.0  (landing page)
Michael Love
git_last_commit: 9352bd0
git_last_commit_date: 2025-10-29 11:12:51 -0500
nebbiolo2Linux (Ubuntu 24.04.3 LTS) / x86_64  OK    OK    OK  UNNEEDED, same version is already published
kjohnson3macOS 13.7.7 Ventura / arm64  OK    OK    OK    OK  UNNEEDED, same version is already published
Package 24/26HostnameOS / ArchINSTALLBUILDCHECKBUILD BIN
plyinteractions 1.8.0  (landing page)
Jacques Serizay
git_last_commit: 18a50a3
git_last_commit_date: 2025-10-29 11:25:39 -0500
nebbiolo2Linux (Ubuntu 24.04.3 LTS) / x86_64  OK    OK    OK  UNNEEDED, same version is already published
kjohnson3macOS 13.7.7 Ventura / arm64  OK    OK    OK    OK  UNNEEDED, same version is already published
Package 25/26HostnameOS / ArchINSTALLBUILDCHECKBUILD BIN
sevenC 1.30.0  (landing page)
Jonas Ibn-Salem
git_last_commit: c38ab75
git_last_commit_date: 2025-10-29 10:45:03 -0500
nebbiolo2Linux (Ubuntu 24.04.3 LTS) / x86_64  OK    OK    OK  UNNEEDED, same version is already published
kjohnson3macOS 13.7.7 Ventura / arm64  OK    OK    OK    OK  UNNEEDED, same version is already published
Package 26/26HostnameOS / ArchINSTALLBUILDCHECKBUILD BIN
trackViewer 1.46.0  (landing page)
Jianhong Ou
git_last_commit: 7f9ba3a
git_last_commit_date: 2025-10-29 10:17:52 -0500
nebbiolo2Linux (Ubuntu 24.04.3 LTS) / x86_64  OK    OK    OK  UNNEEDED, same version is already published
kjohnson3macOS 13.7.7 Ventura / arm64  OK    OK    OK    OK  UNNEEDED, same version is already published