Package: InterCellar Version: 2.14.0 Command: /Library/Frameworks/R.framework/Resources/bin/R CMD INSTALL InterCellar StartedAt: 2025-04-21 15:09:08 -0400 (Mon, 21 Apr 2025) EndedAt: 2025-04-21 15:09:22 -0400 (Mon, 21 Apr 2025) EllapsedTime: 14.2 seconds RetCode: 0 Status: OK