Package: IntEREst Version: 1.32.0 Command: /home/biocbuild/bbs-3.21-bioc/R/bin/R CMD INSTALL IntEREst StartedAt: 2025-10-15 15:53:55 -0400 (Wed, 15 Oct 2025) EndedAt: 2025-10-15 15:54:49 -0400 (Wed, 15 Oct 2025) EllapsedTime: 54.0 seconds RetCode: 0 Status: OK