Package: InPAS Version: 2.14.1 Command: /home/biocbuild/R/R/bin/R CMD check --install=check:InPAS.install-out.txt --library=/home/biocbuild/R/R/site-library --no-vignettes --timings InPAS_2.14.1.tar.gz StartedAt: 2025-01-31 07:21:25 -0000 (Fri, 31 Jan 2025) EndedAt: 2025-01-31 07:28:42 -0000 (Fri, 31 Jan 2025) EllapsedTime: 437.5 seconds RetCode: 0 Status: WARNINGS CheckDir: InPAS.Rcheck Warnings: 1