Package: IgGeneUsage Version: 1.20.0 Command: /home/biocbuild/R/R/bin/R CMD check --install=check:IgGeneUsage.install-out.txt --library=/home/biocbuild/R/R/site-library --no-vignettes --timings IgGeneUsage_1.20.0.tar.gz StartedAt: 2025-01-31 07:18:20 -0000 (Fri, 31 Jan 2025) EndedAt: 2025-01-31 07:30:16 -0000 (Fri, 31 Jan 2025) EllapsedTime: 715.8 seconds RetCode: 0 Status: WARNINGS CheckDir: IgGeneUsage.Rcheck Warnings: 1