Package: IgGeneUsage Version: 1.20.0 Command: rm -rf IgGeneUsage.buildbin-libdir && mkdir IgGeneUsage.buildbin-libdir && F:\biocbuild\bbs-3.20-bioc\R\bin\R.exe CMD INSTALL --build --library=IgGeneUsage.buildbin-libdir IgGeneUsage_1.20.0.tar.gz StartedAt: 2025-01-31 08:51:36 -0500 (Fri, 31 Jan 2025) EndedAt: 2025-01-31 09:00:27 -0500 (Fri, 31 Jan 2025) EllapsedTime: 530.7 seconds RetCode: 0 Status: OK PackageFile: IgGeneUsage_1.20.0.zip PackageFileSize: 2.513 MiB