Package: IgGeneUsage Version: 1.22.0 Command: /Library/Frameworks/R.framework/Resources/bin/R CMD INSTALL IgGeneUsage StartedAt: 2025-05-12 16:20:41 -0400 (Mon, 12 May 2025) EndedAt: 2025-05-12 16:37:17 -0400 (Mon, 12 May 2025) EllapsedTime: 996.1 seconds RetCode: 0 Status: OK