Package: IgGeneUsage Version: 1.22.0 Command: /Library/Frameworks/R.framework/Resources/bin/R CMD check --install=check:IgGeneUsage.install-out.txt --library=/Library/Frameworks/R.framework/Resources/library --no-vignettes --timings IgGeneUsage_1.22.0.tar.gz StartedAt: 2025-04-21 21:21:20 -0400 (Mon, 21 Apr 2025) EndedAt: 2025-04-21 21:32:18 -0400 (Mon, 21 Apr 2025) EllapsedTime: 657.9 seconds RetCode: 0 Status: OK CheckDir: IgGeneUsage.Rcheck Warnings: 0