Package: IgGeneUsage Version: 1.22.0 Command: rm -rf IgGeneUsage.buildbin-libdir && mkdir IgGeneUsage.buildbin-libdir && /Users/biocbuild/BBS/utils/build-universal.sh IgGeneUsage_1.22.0.tar.gz /Library/Frameworks/R.framework/Resources/bin/R IgGeneUsage.buildbin-libdir StartedAt: 2025-04-22 00:50:31 -0400 (Tue, 22 Apr 2025) EndedAt: 2025-04-22 01:01:15 -0400 (Tue, 22 Apr 2025) EllapsedTime: 643.5 seconds RetCode: 0 Status: OK PackageFile: IgGeneUsage_1.22.0.tgz PackageFileSize: 3.271 MiB