Package: IgGeneUsage Version: 1.22.0 Command: /home/biocbuild/R/R/bin/R CMD INSTALL IgGeneUsage StartedAt: 2025-05-12 20:36:06 -0000 (Mon, 12 May 2025) EndedAt: 2025-05-12 20:52:27 -0000 (Mon, 12 May 2025) EllapsedTime: 981.3 seconds RetCode: 0 Status: OK